BEGIN:VCALENDAR
VERSION:2.0
PRODID:-//wp-events-plugin.com//7.2.3.1//EN
TZID:Europe/London
X-WR-TIMEZONE:Europe/London
BEGIN:VEVENT
UID:25@joshcoldspring-white.co.uk
DTSTART;TZID=Europe/London:20241102T100000
DTEND;TZID=Europe/London:20241102T120000
DTSTAMP:20240615T122308Z
URL:https://joshcoldspring-white.co.uk/events/street-surgery-2024-11-02/
SUMMARY:Councillors Street Surgery
DESCRIPTION:Councillors Alexa Michael\, Josh Coldspring-White and Thomas Tu
 rrell hold a monthly street surgery on the first Saturday of the month (ex
 cept August). The surgery is on Station Approach\, Hayes from 10:00 am to 
 12:00 pm.\n\nThey will be available to answer questions that you might hav
 e.
CATEGORIES:Surgery
LOCATION:Station Approach\, Station Approach\, Hayes\, Kent\, BR2\, United 
 Kingdom
X-APPLE-STRUCTURED-LOCATION;VALUE=URI;X-ADDRESS=Station Approach\, Hayes\, 
 Kent\, BR2\, United Kingdom;X-APPLE-RADIUS=100;X-TITLE=Station Approach:ge
 o:0,0
END:VEVENT
BEGIN:VTIMEZONE
TZID:Europe/London
X-LIC-LOCATION:Europe/London
BEGIN:STANDARD
DTSTART:20241027T010000
TZOFFSETFROM:+0100
TZOFFSETTO:+0000
TZNAME:GMT
END:STANDARD
END:VTIMEZONE
END:VCALENDAR